BEGIN:VCALENDAR
VERSION:2.0
PRODID:-//Midwest Section PGA - ECPv6.15.20//NONSGML v1.0//EN
CALSCALE:GREGORIAN
METHOD:PUBLISH
X-WR-CALNAME:Midwest Section PGA
X-ORIGINAL-URL:https://midwest.pga.com
X-WR-CALDESC:Events for Midwest Section PGA
REFRESH-INTERVAL;VALUE=DURATION:PT1H
X-Robots-Tag:noindex
X-PUBLISHED-TTL:PT1H
BEGIN:VTIMEZONE
TZID:UTC
BEGIN:STANDARD
TZOFFSETFROM:+0000
TZOFFSETTO:+0000
TZNAME:UTC
DTSTART:20240101T000000
END:STANDARD
END:VTIMEZONE
BEGIN:VEVENT
DTSTART;VALUE=DATE:20251006
DTEND;VALUE=DATE:20251007
DTSTAMP:20260419T233314
CREATED:20241213T155148Z
LAST-MODIFIED:20241213T155148Z
UID:10000151-1759708800-1759795199@midwest.pga.com
SUMMARY:Facility Challenge
DESCRIPTION:
URL:https://midwest.pga.com/event/facility-challenge/
LOCATION:Ironhorse GC\, 15400 Mission Rd.\, Leawood\, KS\, 66224
GEO:38.8499503;-94.6341652
X-APPLE-STRUCTURED-LOCATION;VALUE=URI;X-ADDRESS=Ironhorse GC 15400 Mission Rd. Leawood KS 66224;X-APPLE-RADIUS=500;X-TITLE=15400 Mission Rd.:geo:-94.6341652,38.8499503
END:VEVENT
BEGIN:VEVENT
DTSTART;TZID=UTC:20250702T080000
DTEND;TZID=UTC:20250702T150000
DTSTAMP:20260419T233314
CREATED:20240315T134334Z
LAST-MODIFIED:20241213T160553Z
UID:10000077-1751443200-1751468400@midwest.pga.com
SUMMARY:Drive Chip & Putt
DESCRIPTION:
URL:https://midwest.pga.com/event/drive-chip-putt/
LOCATION:Ironhorse GC\, 15400 Mission Rd.\, Leawood\, KS\, 66224
GEO:38.8499503;-94.6341652
X-APPLE-STRUCTURED-LOCATION;VALUE=URI;X-ADDRESS=Ironhorse GC 15400 Mission Rd. Leawood KS 66224;X-APPLE-RADIUS=500;X-TITLE=15400 Mission Rd.:geo:-94.6341652,38.8499503
END:VEVENT
END:VCALENDAR