BEGIN:VCALENDAR
VERSION:2.0
PRODID:-//Midwest Section PGA - ECPv6.15.20//NONSGML v1.0//EN
CALSCALE:GREGORIAN
METHOD:PUBLISH
X-ORIGINAL-URL:https://midwest.pga.com
X-WR-CALDESC:Events for Midwest Section PGA
REFRESH-INTERVAL;VALUE=DURATION:PT1H
X-Robots-Tag:noindex
X-PUBLISHED-TTL:PT1H
BEGIN:VTIMEZONE
TZID:UTC
BEGIN:STANDARD
TZOFFSETFROM:+0000
TZOFFSETTO:+0000
TZNAME:UTC
DTSTART:20240101T000000
END:STANDARD
END:VTIMEZONE
BEGIN:VEVENT
DTSTART;TZID=UTC:20251110T100000
DTEND;TZID=UTC:20251110T130000
DTSTAMP:20260420T104030
CREATED:20251104T194348Z
LAST-MODIFIED:20251104T194348Z
UID:10000180-1762768800-1762779600@midwest.pga.com
SUMMARY:Ozarks Chapter Meeting
DESCRIPTION:
URL:https://midwest.pga.com/event/ozarks-chapter-meeting/
LOCATION:Fremont Hills Country Club\, 1953 Fremont Hills Dr\, Nixa\, MO\, 65714
GEO:37.0659718;-93.2539625
X-APPLE-STRUCTURED-LOCATION;VALUE=URI;X-ADDRESS=Fremont Hills Country Club 1953 Fremont Hills Dr Nixa MO 65714;X-APPLE-RADIUS=500;X-TITLE=1953 Fremont Hills Dr:geo:-93.2539625,37.0659718
END:VEVENT
END:VCALENDAR