BEGIN:VCALENDAR
VERSION:2.0
PRODID:-//Midwest Section PGA - ECPv6.15.20//NONSGML v1.0//EN
CALSCALE:GREGORIAN
METHOD:PUBLISH
X-ORIGINAL-URL:https://midwest.pga.com
X-WR-CALDESC:Events for Midwest Section PGA
REFRESH-INTERVAL;VALUE=DURATION:PT1H
X-Robots-Tag:noindex
X-PUBLISHED-TTL:PT1H
BEGIN:VTIMEZONE
TZID:UTC
BEGIN:STANDARD
TZOFFSETFROM:+0000
TZOFFSETTO:+0000
TZNAME:UTC
DTSTART:20250101T000000
END:STANDARD
END:VTIMEZONE
BEGIN:VEVENT
DTSTART;TZID=UTC:20260506T080000
DTEND;TZID=UTC:20261014T170000
DTSTAMP:20260424T200335
CREATED:20260318T140451Z
LAST-MODIFIED:20260318T140451Z
UID:10000199-1778054400-1791997200@midwest.pga.com
SUMMARY:Match Play Championship
DESCRIPTION:
URL:https://midwest.pga.com/event/match-play-championship/
END:VEVENT
BEGIN:VEVENT
DTSTART;TZID=UTC:20260506T080000
DTEND;TZID=UTC:20261006T170000
DTSTAMP:20260424T200335
CREATED:20260318T140614Z
LAST-MODIFIED:20260318T140614Z
UID:10000201-1778054400-1791306000@midwest.pga.com
SUMMARY:Senior Match Play Championship
DESCRIPTION:
URL:https://midwest.pga.com/event/senior-match-play-championship/
END:VEVENT
BEGIN:VEVENT
DTSTART;TZID=UTC:20260507T080000
DTEND;TZID=UTC:20261007T170000
DTSTAMP:20260424T200335
CREATED:20260318T140721Z
LAST-MODIFIED:20260318T140721Z
UID:10000203-1778140800-1791392400@midwest.pga.com
SUMMARY:4-Ball Match Play Championship
DESCRIPTION:
URL:https://midwest.pga.com/event/4-ball-match-play-championship/
END:VEVENT
BEGIN:VEVENT
DTSTART;TZID=UTC:20260507T080000
DTEND;TZID=UTC:20261007T170000
DTSTAMP:20260424T200335
CREATED:20260318T140831Z
LAST-MODIFIED:20260318T140831Z
UID:10000204-1778140800-1791392400@midwest.pga.com
SUMMARY:Assistant Match Play Championship
DESCRIPTION:
URL:https://midwest.pga.com/event/assistant-match-play-championship/
END:VEVENT
BEGIN:VEVENT
DTSTART;TZID=UTC:20260609T080000
DTEND;TZID=UTC:20260609T140000
DTSTAMP:20260424T200335
CREATED:20260318T141334Z
LAST-MODIFIED:20260318T141334Z
UID:10000211-1780992000-1781013600@midwest.pga.com
SUMMARY:Ozarks Stableford
DESCRIPTION:
URL:https://midwest.pga.com/event/ozarks-stableford-2/
LOCATION:Rivercut GC\, 2850 W Farm Rd. 190\, Springfield\, MO\, 65810
GEO:37.1022176;-93.3385262
X-APPLE-STRUCTURED-LOCATION;VALUE=URI;X-ADDRESS=Rivercut GC 2850 W Farm Rd. 190 Springfield MO 65810;X-APPLE-RADIUS=500;X-TITLE=2850 W Farm Rd. 190:geo:-93.3385262,37.1022176
END:VEVENT
BEGIN:VEVENT
DTSTART;TZID=UTC:20260615T100000
DTEND;TZID=UTC:20260615T150000
DTSTAMP:20260424T200335
CREATED:20260318T141538Z
LAST-MODIFIED:20260318T141538Z
UID:10000214-1781517600-1781535600@midwest.pga.com
SUMMARY:Pro-Junior Team Championship
DESCRIPTION:
URL:https://midwest.pga.com/event/pro-junior-team-championship/
LOCATION:Excelsior Springs GC\, 1201 Golf Hill Dr.\, Excelsior Springs\, MO\, 64024
GEO:39.3358258;-94.2034778
X-APPLE-STRUCTURED-LOCATION;VALUE=URI;X-ADDRESS=Excelsior Springs GC 1201 Golf Hill Dr. Excelsior Springs MO 64024;X-APPLE-RADIUS=500;X-TITLE=1201 Golf Hill Dr.:geo:-94.2034778,39.3358258
END:VEVENT
BEGIN:VEVENT
DTSTART;TZID=UTC:20260617T073000
DTEND;TZID=UTC:20260618T170000
DTSTAMP:20260424T200335
CREATED:20260318T141652Z
LAST-MODIFIED:20260318T141652Z
UID:10000215-1781681400-1781802000@midwest.pga.com
SUMMARY:Midwest Junior PGA Championship
DESCRIPTION:
URL:https://midwest.pga.com/event/midwest-junior-pga-championship-2/
LOCATION:Fred Arbanas Golf Course\, 11100 View High Drive\, Kansas City\, MO\, 64134\, United States
GEO:38.9199445;-94.4506117
X-APPLE-STRUCTURED-LOCATION;VALUE=URI;X-ADDRESS=Fred Arbanas Golf Course 11100 View High Drive Kansas City MO 64134 United States;X-APPLE-RADIUS=500;X-TITLE=11100 View High Drive:geo:-94.4506117,38.9199445
END:VEVENT
BEGIN:VEVENT
DTSTART;TZID=UTC:20260622T073000
DTEND;TZID=UTC:20260622T170000
DTSTAMP:20260424T200335
CREATED:20260318T141821Z
LAST-MODIFIED:20260318T151613Z
UID:10000218-1782113400-1782147600@midwest.pga.com
SUMMARY:MWPGA Assistant Championship
DESCRIPTION:
URL:https://midwest.pga.com/event/mwpga-assistant-championship/
LOCATION:Shoal Creek Golf Club\, 8905 North Shoal Creek Parkway\, Kansas City\, MO\, 64157\, United States
GEO:39.2554595;-94.4862696
X-APPLE-STRUCTURED-LOCATION;VALUE=URI;X-ADDRESS=Shoal Creek Golf Club 8905 North Shoal Creek Parkway Kansas City MO 64157 United States;X-APPLE-RADIUS=500;X-TITLE=8905 North Shoal Creek Parkway:geo:-94.4862696,39.2554595
END:VEVENT
BEGIN:VEVENT
DTSTART;TZID=UTC:20260622T073000
DTEND;TZID=UTC:20260622T170000
DTSTAMP:20260424T200335
CREATED:20260318T155948Z
LAST-MODIFIED:20260318T155948Z
UID:10000220-1782113400-1782147600@midwest.pga.com
SUMMARY:MWPGA Senior Professional Championship
DESCRIPTION:
URL:https://midwest.pga.com/event/mwpga-senior-professional-championship/
LOCATION:Shoal Creek Golf Club\, 8905 North Shoal Creek Parkway\, Kansas City\, MO\, 64157\, United States
GEO:39.2554595;-94.4862696
X-APPLE-STRUCTURED-LOCATION;VALUE=URI;X-ADDRESS=Shoal Creek Golf Club 8905 North Shoal Creek Parkway Kansas City MO 64157 United States;X-APPLE-RADIUS=500;X-TITLE=8905 North Shoal Creek Parkway:geo:-94.4862696,39.2554595
END:VEVENT
BEGIN:VEVENT
DTSTART;TZID=UTC:20260622T073000
DTEND;TZID=UTC:20260622T170000
DTSTAMP:20260424T200335
CREATED:20260318T160055Z
LAST-MODIFIED:20260318T160055Z
UID:10000221-1782113400-1782147600@midwest.pga.com
SUMMARY:Midwest PGA Women's Section Championship
DESCRIPTION:
URL:https://midwest.pga.com/event/midwest-pga-womens-section-championship/
LOCATION:Shoal Creek Golf Club\, 8905 North Shoal Creek Parkway\, Kansas City\, MO\, 64157\, United States
GEO:39.2554595;-94.4862696
X-APPLE-STRUCTURED-LOCATION;VALUE=URI;X-ADDRESS=Shoal Creek Golf Club 8905 North Shoal Creek Parkway Kansas City MO 64157 United States;X-APPLE-RADIUS=500;X-TITLE=8905 North Shoal Creek Parkway:geo:-94.4862696,39.2554595
END:VEVENT
END:VCALENDAR