BEGIN:VCALENDAR
VERSION:2.0
PRODID:-//Midwest Section PGA - ECPv6.15.20//NONSGML v1.0//EN
CALSCALE:GREGORIAN
METHOD:PUBLISH
X-WR-CALNAME:Midwest Section PGA
X-ORIGINAL-URL:https://midwest.pga.com
X-WR-CALDESC:Events for Midwest Section PGA
REFRESH-INTERVAL;VALUE=DURATION:PT1H
X-Robots-Tag:noindex
X-PUBLISHED-TTL:PT1H
BEGIN:VTIMEZONE
TZID:UTC
BEGIN:STANDARD
TZOFFSETFROM:+0000
TZOFFSETTO:+0000
TZNAME:UTC
DTSTART:20250101T000000
END:STANDARD
END:VTIMEZONE
BEGIN:VEVENT
DTSTART;TZID=UTC:20260504T080000
DTEND;TZID=UTC:20260504T140000
DTSTAMP:20260420T042101
CREATED:20260318T140310Z
LAST-MODIFIED:20260318T140310Z
UID:10000197-1777881600-1777903200@midwest.pga.com
SUMMARY:Pro Open #2
DESCRIPTION:
URL:https://midwest.pga.com/event/pro-open-2-2/
LOCATION:Lake Quivira CC\, 100 Crescent Blvd.\, Lake Quivira\, KS
GEO:39.0467322;-94.771205
X-APPLE-STRUCTURED-LOCATION;VALUE=URI;X-ADDRESS=Lake Quivira CC 100 Crescent Blvd. Lake Quivira KS;X-APPLE-RADIUS=500;X-TITLE=100 Crescent Blvd.:geo:-94.771205,39.0467322
END:VEVENT
BEGIN:VEVENT
DTSTART;TZID=UTC:20260506T080000
DTEND;TZID=UTC:20261014T170000
DTSTAMP:20260420T042101
CREATED:20260318T140451Z
LAST-MODIFIED:20260318T140451Z
UID:10000199-1778054400-1791997200@midwest.pga.com
SUMMARY:Match Play Championship
DESCRIPTION:
URL:https://midwest.pga.com/event/match-play-championship/
END:VEVENT
BEGIN:VEVENT
DTSTART;TZID=UTC:20260506T080000
DTEND;TZID=UTC:20261006T170000
DTSTAMP:20260420T042101
CREATED:20260318T140614Z
LAST-MODIFIED:20260318T140614Z
UID:10000201-1778054400-1791306000@midwest.pga.com
SUMMARY:Senior Match Play Championship
DESCRIPTION:
URL:https://midwest.pga.com/event/senior-match-play-championship/
END:VEVENT
BEGIN:VEVENT
DTSTART;TZID=UTC:20260507T080000
DTEND;TZID=UTC:20261007T170000
DTSTAMP:20260420T042101
CREATED:20260318T140721Z
LAST-MODIFIED:20260318T140721Z
UID:10000203-1778140800-1791392400@midwest.pga.com
SUMMARY:4-Ball Match Play Championship
DESCRIPTION:
URL:https://midwest.pga.com/event/4-ball-match-play-championship/
END:VEVENT
BEGIN:VEVENT
DTSTART;TZID=UTC:20260507T080000
DTEND;TZID=UTC:20261007T170000
DTSTAMP:20260420T042101
CREATED:20260318T140831Z
LAST-MODIFIED:20260318T140831Z
UID:10000204-1778140800-1791392400@midwest.pga.com
SUMMARY:Assistant Match Play Championship
DESCRIPTION:
URL:https://midwest.pga.com/event/assistant-match-play-championship/
END:VEVENT
BEGIN:VEVENT
DTSTART;TZID=UTC:20260511T083000
DTEND;TZID=UTC:20260511T170000
DTSTAMP:20260420T042101
CREATED:20260318T140949Z
LAST-MODIFIED:20260318T141011Z
UID:10000207-1778488200-1778518800@midwest.pga.com
SUMMARY:36 Hole Four-Ball Championship
DESCRIPTION:
URL:https://midwest.pga.com/event/36-hole-4-ball-championship/
LOCATION:Silo Ridge G & CC\, 4551 Fairway Dr.\, Bolivar\, MO\, 65613
GEO:37.5867992;-93.3445399
X-APPLE-STRUCTURED-LOCATION;VALUE=URI;X-ADDRESS=Silo Ridge G & CC 4551 Fairway Dr. Bolivar MO 65613;X-APPLE-RADIUS=500;X-TITLE=4551 Fairway Dr.:geo:-93.3445399,37.5867992
END:VEVENT
BEGIN:VEVENT
DTSTART;TZID=UTC:20260518T073000
DTEND;TZID=UTC:20260518T170000
DTSTAMP:20260420T042101
CREATED:20260318T141223Z
LAST-MODIFIED:20260318T141223Z
UID:10000208-1779089400-1779123600@midwest.pga.com
SUMMARY:Toyota 36-Hole Stroke Play Championship
DESCRIPTION:
URL:https://midwest.pga.com/event/toyota-36-hole-stroke-play-championship/
LOCATION:Sycamore Ridge Golf Club\, 21731 Clubhouse Dr.\, Spring Hill\, KS\, 66083\, United States
GEO:38.7627268;-94.8387698
X-APPLE-STRUCTURED-LOCATION;VALUE=URI;X-ADDRESS=Sycamore Ridge Golf Club 21731 Clubhouse Dr. Spring Hill KS 66083 United States;X-APPLE-RADIUS=500;X-TITLE=21731 Clubhouse Dr.:geo:-94.8387698,38.7627268
END:VEVENT
END:VCALENDAR