BEGIN:VCALENDAR
VERSION:2.0
PRODID:-//Midwest Section PGA - ECPv6.15.20//NONSGML v1.0//EN
CALSCALE:GREGORIAN
METHOD:PUBLISH
X-WR-CALNAME:Midwest Section PGA
X-ORIGINAL-URL:https://midwest.pga.com
X-WR-CALDESC:Events for Midwest Section PGA
REFRESH-INTERVAL;VALUE=DURATION:PT1H
X-Robots-Tag:noindex
X-PUBLISHED-TTL:PT1H
BEGIN:VTIMEZONE
TZID:UTC
BEGIN:STANDARD
TZOFFSETFROM:+0000
TZOFFSETTO:+0000
TZNAME:UTC
DTSTART:20240101T000000
END:STANDARD
END:VTIMEZONE
BEGIN:VEVENT
DTSTART;TZID=UTC:20250604T080000
DTEND;TZID=UTC:20250604T170000
DTSTAMP:20260423T213742
CREATED:20240315T133926Z
LAST-MODIFIED:20241213T160813Z
UID:10000075-1749024000-1749056400@midwest.pga.com
SUMMARY:Drive Chip & Putt
DESCRIPTION:
URL:https://midwest.pga.com/event/drive-chip-putt-2/
LOCATION:Emporia Golf Course\, 1133 S. Highway 99\, Emporia\, KS\, 66801
GEO:38.3221843;-96.1881475
X-APPLE-STRUCTURED-LOCATION;VALUE=URI;X-ADDRESS=Emporia Golf Course 1133 S. Highway 99 Emporia KS 66801;X-APPLE-RADIUS=500;X-TITLE=1133 S. Highway 99:geo:-96.1881475,38.3221843
END:VEVENT
BEGIN:VEVENT
DTSTART;TZID=UTC:20250609T080000
DTEND;TZID=UTC:20250609T160000
DTSTAMP:20260423T213742
CREATED:20240315T134430Z
LAST-MODIFIED:20241213T160204Z
UID:10000078-1749456000-1749484800@midwest.pga.com
SUMMARY:Drive Chip & Putt
DESCRIPTION:
URL:https://midwest.pga.com/event/drive-chip-putt-8/
LOCATION:Fred Arbanas Golf Course\, 11100 View High Drive\, Kansas City\, MO\, 64134\, United States
GEO:38.9199445;-94.4506117
X-APPLE-STRUCTURED-LOCATION;VALUE=URI;X-ADDRESS=Fred Arbanas Golf Course 11100 View High Drive Kansas City MO 64134 United States;X-APPLE-RADIUS=500;X-TITLE=11100 View High Drive:geo:-94.4506117,38.9199445
END:VEVENT
BEGIN:VEVENT
DTSTART;VALUE=DATE:20250616
DTEND;VALUE=DATE:20250617
DTSTAMP:20260423T213742
CREATED:20241213T153025Z
LAST-MODIFIED:20241213T153025Z
UID:10000120-1750032000-1750118399@midwest.pga.com
SUMMARY:Pro Junior
DESCRIPTION:
URL:https://midwest.pga.com/event/pro-junior/
LOCATION:Fred Arbanas Golf Course\, 11100 View High Drive\, Kansas City\, MO\, 64134\, United States
GEO:38.9199445;-94.4506117
X-APPLE-STRUCTURED-LOCATION;VALUE=URI;X-ADDRESS=Fred Arbanas Golf Course 11100 View High Drive Kansas City MO 64134 United States;X-APPLE-RADIUS=500;X-TITLE=11100 View High Drive:geo:-94.4506117,38.9199445
END:VEVENT
BEGIN:VEVENT
DTSTART;TZID=UTC:20250618T073000
DTEND;TZID=UTC:20250619T170000
DTSTAMP:20260423T213742
CREATED:20250424T163327Z
LAST-MODIFIED:20250424T163544Z
UID:10000171-1750231800-1750352400@midwest.pga.com
SUMMARY:Midwest Junior PGA Championship
DESCRIPTION:
URL:https://midwest.pga.com/event/midwest-junior-pga-championship/
LOCATION:Fred Arbanas Golf Course\, 11100 View High Drive\, Kansas City\, MO\, 64134\, United States
GEO:38.9199445;-94.4506117
X-APPLE-STRUCTURED-LOCATION;VALUE=URI;X-ADDRESS=Fred Arbanas Golf Course 11100 View High Drive Kansas City MO 64134 United States;X-APPLE-RADIUS=500;X-TITLE=11100 View High Drive:geo:-94.4506117,38.9199445
END:VEVENT
BEGIN:VEVENT
DTSTART;VALUE=DATE:20250623
DTEND;VALUE=DATE:20250624
DTSTAMP:20260423T213742
CREATED:20241213T153246Z
LAST-MODIFIED:20241213T153246Z
UID:10000123-1750636800-1750723199@midwest.pga.com
SUMMARY:Pro Ladies
DESCRIPTION:
URL:https://midwest.pga.com/event/pro-ladies/
LOCATION:Brookridge Golf Club\, 8223 W. 103rd St.\, Overland Park\, KS\, 66212
END:VEVENT
BEGIN:VEVENT
DTSTART;TZID=UTC:20250625T080000
DTEND;TZID=UTC:20250625T170000
DTSTAMP:20260423T213742
CREATED:20241213T161310Z
LAST-MODIFIED:20241213T161310Z
UID:10000159-1750838400-1750870800@midwest.pga.com
SUMMARY:Drive Chip & Putt
DESCRIPTION:
URL:https://midwest.pga.com/event/drive-chip-putt-3/
LOCATION:Tiffany Greens GC\, 6100 NW Tiffany Springs Pkwy\, Kansas City\, MO\, 64154
GEO:39.274945;-94.644501
X-APPLE-STRUCTURED-LOCATION;VALUE=URI;X-ADDRESS=Tiffany Greens GC 6100 NW Tiffany Springs Pkwy Kansas City MO 64154;X-APPLE-RADIUS=500;X-TITLE=6100 NW Tiffany Springs Pkwy:geo:-94.644501,39.274945
END:VEVENT
BEGIN:VEVENT
DTSTART;VALUE=DATE:20250630
DTEND;VALUE=DATE:20250701
DTSTAMP:20260423T213742
CREATED:20241213T153355Z
LAST-MODIFIED:20241213T153355Z
UID:10000126-1751241600-1751327999@midwest.pga.com
SUMMARY:Midwest PGA Stroke Play Championship
DESCRIPTION:
URL:https://midwest.pga.com/event/midwest-pga-stroke-play-championship/
LOCATION:Blue Hills CC\, 777 W. Burning Tree Dr.\, Kansas City\, 64145\, American Samoa
GEO:38.8992527;-94.6020778
X-APPLE-STRUCTURED-LOCATION;VALUE=URI;X-ADDRESS=Blue Hills CC 777 W. Burning Tree Dr. Kansas City 64145 American Samoa;X-APPLE-RADIUS=500;X-TITLE=777 W. Burning Tree Dr.:geo:-94.6020778,38.8992527
END:VEVENT
END:VCALENDAR