BEGIN:VCALENDAR
VERSION:2.0
PRODID:-//Midwest Section PGA - ECPv6.15.20//NONSGML v1.0//EN
CALSCALE:GREGORIAN
METHOD:PUBLISH
X-ORIGINAL-URL:https://midwest.pga.com
X-WR-CALDESC:Events for Midwest Section PGA
REFRESH-INTERVAL;VALUE=DURATION:PT1H
X-Robots-Tag:noindex
X-PUBLISHED-TTL:PT1H
BEGIN:VTIMEZONE
TZID:UTC
BEGIN:STANDARD
TZOFFSETFROM:+0000
TZOFFSETTO:+0000
TZNAME:UTC
DTSTART:20240101T000000
END:STANDARD
END:VTIMEZONE
BEGIN:VEVENT
DTSTART;VALUE=DATE:20250414
DTEND;VALUE=DATE:20250415
DTSTAMP:20260424T052138
CREATED:20241213T151127Z
LAST-MODIFIED:20241213T151127Z
UID:10000112-1744588800-1744675199@midwest.pga.com
SUMMARY:Triple Pro
DESCRIPTION:
URL:https://midwest.pga.com/event/triple-pro/
LOCATION:The Bluffs\, 6415 N. National Dr.\, Kansas City\, MO\, 64152
END:VEVENT
BEGIN:VEVENT
DTSTART;VALUE=DATE:20250421
DTEND;VALUE=DATE:20250422
DTSTAMP:20260424T052138
CREATED:20241213T151221Z
LAST-MODIFIED:20241213T152348Z
UID:10000114-1745193600-1745279999@midwest.pga.com
SUMMARY:Pro Open #1
DESCRIPTION:
URL:https://midwest.pga.com/event/pro-open-1/
LOCATION:Golf Club of Creekmoor\, 1112 E. 163rd St.\, Raymore\, MO\, 64083
GEO:38.8280478;-94.4727942
X-APPLE-STRUCTURED-LOCATION;VALUE=URI;X-ADDRESS=Golf Club of Creekmoor 1112 E. 163rd St. Raymore MO 64083;X-APPLE-RADIUS=500;X-TITLE=1112 E. 163rd St.:geo:-94.4727942,38.8280478
END:VEVENT
BEGIN:VEVENT
DTSTART;TZID=UTC:20250428T110000
DTEND;TZID=UTC:20250428T160000
DTSTAMP:20260424T052138
CREATED:20250424T161544Z
LAST-MODIFIED:20250424T161831Z
UID:10000165-1745838000-1745856000@midwest.pga.com
SUMMARY:Ozarks Stableford
DESCRIPTION:
URL:https://midwest.pga.com/event/ozarks-stableford/
LOCATION:Horton Smith Golf Course\, 2409 S. Scenic Ave.\, Springfield\, Mo\, 65807
GEO:37.1711401;-93.3321335
X-APPLE-STRUCTURED-LOCATION;VALUE=URI;X-ADDRESS=Horton Smith Golf Course 2409 S. Scenic Ave. Springfield Mo 65807;X-APPLE-RADIUS=500;X-TITLE=2409 S. Scenic Ave.:geo:-93.3321335,37.1711401
END:VEVENT
END:VCALENDAR