BEGIN:VCALENDAR
VERSION:2.0
PRODID:-//Midwest Section PGA - ECPv6.15.20//NONSGML v1.0//EN
CALSCALE:GREGORIAN
METHOD:PUBLISH
X-WR-CALNAME:Midwest Section PGA
X-ORIGINAL-URL:https://midwest.pga.com
X-WR-CALDESC:Events for Midwest Section PGA
REFRESH-INTERVAL;VALUE=DURATION:PT1H
X-Robots-Tag:noindex
X-PUBLISHED-TTL:PT1H
BEGIN:VTIMEZONE
TZID:UTC
BEGIN:STANDARD
TZOFFSETFROM:+0000
TZOFFSETTO:+0000
TZNAME:UTC
DTSTART:20240101T000000
END:STANDARD
END:VTIMEZONE
BEGIN:VEVENT
DTSTART;VALUE=DATE:20250414
DTEND;VALUE=DATE:20250415
DTSTAMP:20260423T012514
CREATED:20241213T151127Z
LAST-MODIFIED:20241213T151127Z
UID:10000112-1744588800-1744675199@midwest.pga.com
SUMMARY:Triple Pro
DESCRIPTION:
URL:https://midwest.pga.com/event/triple-pro/
LOCATION:The Bluffs\, 6415 N. National Dr.\, Kansas City\, MO\, 64152
END:VEVENT
END:VCALENDAR