BEGIN:VCALENDAR
VERSION:2.0
PRODID:-//Midwest Section PGA - ECPv6.15.20//NONSGML v1.0//EN
CALSCALE:GREGORIAN
METHOD:PUBLISH
X-ORIGINAL-URL:https://midwest.pga.com
X-WR-CALDESC:Events for Midwest Section PGA
REFRESH-INTERVAL;VALUE=DURATION:PT1H
X-Robots-Tag:noindex
X-PUBLISHED-TTL:PT1H
BEGIN:VTIMEZONE
TZID:UTC
BEGIN:STANDARD
TZOFFSETFROM:+0000
TZOFFSETTO:+0000
TZNAME:UTC
DTSTART:20240101T000000
END:STANDARD
END:VTIMEZONE
BEGIN:VEVENT
DTSTART;TZID=UTC:20250810T130000
DTEND;TZID=UTC:20250811T140000
DTSTAMP:20260421T110425
CREATED:20240314T085645Z
LAST-MODIFIED:20241216T175755Z
UID:10000057-1754830800-1754920800@midwest.pga.com
SUMMARY:Big Cedar Pro Pro Championship
DESCRIPTION:
URL:https://midwest.pga.com/event/big-cedar-challenge/
LOCATION:Payne’s Valley Golf Course\, 1250 Golf Club Dr.\, Hollister\, MO\, 65672
ATTACH;FMTTYPE=image/jpeg:https://midwest.pga.com/wp-content/uploads/sites/31/2023/03/2020_Golf_PaynesValley_19thHole_0006-scaled-e1680027207211.jpg
GEO:36.5612064;-93.1968755
X-APPLE-STRUCTURED-LOCATION;VALUE=URI;X-ADDRESS=Payne’s Valley Golf Course 1250 Golf Club Dr. Hollister MO 65672;X-APPLE-RADIUS=500;X-TITLE=1250 Golf Club Dr.:geo:-93.1968755,36.5612064
END:VEVENT
END:VCALENDAR