BEGIN:VCALENDAR
VERSION:2.0
PRODID:-//Midwest Section PGA - ECPv6.15.20//NONSGML v1.0//EN
CALSCALE:GREGORIAN
METHOD:PUBLISH
X-WR-CALNAME:Midwest Section PGA
X-ORIGINAL-URL:https://midwest.pga.com
X-WR-CALDESC:Events for Midwest Section PGA
REFRESH-INTERVAL;VALUE=DURATION:PT1H
X-Robots-Tag:noindex
X-PUBLISHED-TTL:PT1H
BEGIN:VTIMEZONE
TZID:UTC
BEGIN:STANDARD
TZOFFSETFROM:+0000
TZOFFSETTO:+0000
TZNAME:UTC
DTSTART:20240101T000000
END:STANDARD
END:VTIMEZONE
BEGIN:VEVENT
DTSTART;VALUE=DATE:20250728
DTEND;VALUE=DATE:20250730
DTSTAMP:20260421T182734
CREATED:20241213T154136Z
LAST-MODIFIED:20241213T154136Z
UID:10000132-1753660800-1753833599@midwest.pga.com
SUMMARY:Midwest PGA Professional Championship
DESCRIPTION:
URL:https://midwest.pga.com/event/midwest-pga-professional-championship-2/
LOCATION:Silo Ridge G & CC\, 4551 Fairway Dr.\, Bolivar\, MO\, 65613
GEO:37.5867992;-93.3445399
X-APPLE-STRUCTURED-LOCATION;VALUE=URI;X-ADDRESS=Silo Ridge G & CC 4551 Fairway Dr. Bolivar MO 65613;X-APPLE-RADIUS=500;X-TITLE=4551 Fairway Dr.:geo:-93.3445399,37.5867992
END:VEVENT
END:VCALENDAR