BEGIN:VCALENDAR
VERSION:2.0
PRODID:-//Midwest Section PGA - ECPv6.15.20//NONSGML v1.0//EN
CALSCALE:GREGORIAN
METHOD:PUBLISH
X-ORIGINAL-URL:https://midwest.pga.com
X-WR-CALDESC:Events for Midwest Section PGA
REFRESH-INTERVAL;VALUE=DURATION:PT1H
X-Robots-Tag:noindex
X-PUBLISHED-TTL:PT1H
BEGIN:VTIMEZONE
TZID:UTC
BEGIN:STANDARD
TZOFFSETFROM:+0000
TZOFFSETTO:+0000
TZNAME:UTC
DTSTART:20240101T000000
END:STANDARD
END:VTIMEZONE
BEGIN:VEVENT
DTSTART;TZID=UTC:20250714T070000
DTEND;TZID=UTC:20250714T190000
DTSTAMP:20260423T032018
CREATED:20240315T133719Z
LAST-MODIFIED:20241216T175846Z
UID:10000074-1752476400-1752519600@midwest.pga.com
SUMMARY:Price Cutter Open Qualifier
DESCRIPTION: 
URL:https://midwest.pga.com/event/price-cutter-open-qualifier/
LOCATION:Millwood G & RC\, 3700 E. Millwood Dr.\, Ozark\, MO\, 65721
GEO:37.0976577;-93.2219818
X-APPLE-STRUCTURED-LOCATION;VALUE=URI;X-ADDRESS=Millwood G & RC 3700 E. Millwood Dr. Ozark MO 65721;X-APPLE-RADIUS=500;X-TITLE=3700 E. Millwood Dr.:geo:-93.2219818,37.0976577
END:VEVENT
END:VCALENDAR